BEGIN:VCALENDAR
VERSION:2.0
PRODID:-//Milwaukee Academy of Science - ECPv6.15.11//NONSGML v1.0//EN
CALSCALE:GREGORIAN
METHOD:PUBLISH
X-ORIGINAL-URL:https://www.milwaukeeacademyofscience.org
X-WR-CALDESC:Events for Milwaukee Academy of Science
REFRESH-INTERVAL;VALUE=DURATION:PT1H
X-Robots-Tag:noindex
X-PUBLISHED-TTL:PT1H
BEGIN:VTIMEZONE
TZID:UTC
BEGIN:STANDARD
TZOFFSETFROM:+0000
TZOFFSETTO:+0000
TZNAME:UTC
DTSTART:20160101T000000
END:STANDARD
END:VTIMEZONE
BEGIN:VEVENT
DTSTART;TZID=UTC:20181112T170000
DTEND;TZID=UTC:20181112T220000
DTSTAMP:20260423T085314
CREATED:20180605T205546Z
LAST-MODIFIED:20181009T151721Z
UID:1057-1542042000-1542060000@www.milwaukeeacademyofscience.org
SUMMARY:3rd Annual Gala
DESCRIPTION:
URL:https://www.milwaukeeacademyofscience.org/event/3rd-annual-gala/
LOCATION:Discovery World Pilot House\, 500 N Harbor Dr\, Milwaukee\, WI\, 53202\, United States
CATEGORIES:Fundraising
END:VEVENT
BEGIN:VEVENT
DTSTART;TZID=UTC:20180709T110000
DTEND;TZID=UTC:20180709T190000
DTSTAMP:20260423T085314
CREATED:20180605T205123Z
LAST-MODIFIED:20180605T205123Z
UID:1052-1531134000-1531162800@www.milwaukeeacademyofscience.org
SUMMARY:6th Annual Nova Nation Golf Classic
DESCRIPTION:
URL:https://www.milwaukeeacademyofscience.org/event/6th-annual-nova-nation-golf-classic/
LOCATION:Wisconsin Club\, 6200 W Good Hope Rd\, Milwaukee\, WI\, 53223\, United States
CATEGORIES:Fundraising
END:VEVENT
BEGIN:VEVENT
DTSTART;TZID=UTC:20171213T080000
DTEND;TZID=UTC:20171221T170000
DTSTAMP:20260423T085314
CREATED:20171117T200621Z
LAST-MODIFIED:20171205T214947Z
UID:644-1513152000-1513875600@www.milwaukeeacademyofscience.org
SUMMARY:Scholastic Book Fair
DESCRIPTION:Special buy one\, get one free for the holidays! Don’t miss it!
URL:https://www.milwaukeeacademyofscience.org/event/scholastic-book-fair-5/
LOCATION:WI
CATEGORIES:Fundraising
END:VEVENT
END:VCALENDAR